BEGIN:VCALENDAR
VERSION:2.0
CALSCALE:GREGORIAN
PRODID:-//Diputació de Barcelona//DibaCMS//EN
BEGIN:VEVENT
UID:1868
DTSTAMP:20260422T152422
DTSTART:20260426T130000
DTEND:20260426T143000
SUMMARY:FESTA SANT MARC 2026
LOCATION:Carrer del Sol, 1 08278 Mura
METHOD:PUBLISH
X-WR-CALNAME:mura@mura.cat
X-WR-TIMEZONE:Europe/Madrid
DESCRIPTION:
URI:https://www.mura.cat/actualitat/agenda/festa-sant-marc-2026.html
CLASS:PUBLIC
END:VEVENT
END:VCALENDAR
