BEGIN:VCALENDAR
VERSION:2.0
CALSCALE:GREGORIAN
PRODID:-//Diputació de Barcelona//DibaCMS//EN
BEGIN:VEVENT
UID:1869
DTSTAMP:20260422T152439
DTSTART:20260516T123000
DTEND:20260516T140000
SUMMARY:CONCERT ALOE
LOCATION:Plaça Tomàs Viver 
METHOD:PUBLISH
X-WR-CALNAME:mura@mura.cat
X-WR-TIMEZONE:Europe/Madrid
DESCRIPTION:EN FORMAT DUET.
ALOE és un projecte DE MÚSICA D’AUTOR QUE CAMINA ENTRE EL FOLK I EL POP AMB LETRES INTIMISTES

URI:https://www.mura.cat/actualitat/agenda/concert-aloe.html
CLASS:PUBLIC
END:VEVENT
END:VCALENDAR
