BEGIN:VCALENDAR
VERSION:2.0
CALSCALE:GREGORIAN
PRODID:-//Diputació de Barcelona//DibaCMS//EN
BEGIN:VEVENT
UID:1870
DTSTAMP:20260422T152118
DTSTART:20260621T123000
DTEND:20260621T140000
SUMMARY:CONCERT 4CAPS
LOCATION:Plaça Tomàs Viver 
METHOD:PUBLISH
X-WR-CALNAME:mura@mura.cat
X-WR-TIMEZONE:Europe/Madrid
DESCRIPTION:Un vermut carregat d’energia i ritmes jamaicans que
omplirà la plaça de bon ambient i DE FESTA.

URI:https://www.mura.cat/actualitat/agenda/concert-4caps.html
CLASS:PUBLIC
END:VEVENT
END:VCALENDAR
