BEGIN:VCALENDAR
VERSION:2.0
CALSCALE:GREGORIAN
PRODID:-//Diputació de Barcelona//DibaCMS//EN
BEGIN:VEVENT
UID:1871
DTSTAMP:20260422T152311
DTSTART:20260718T190000
DTEND:20260718T203000
SUMMARY:CONCERT JOW
LOCATION:Plaça Àngel Guimerà 
METHOD:PUBLISH
X-WR-CALNAME:mura@mura.cat
X-WR-TIMEZONE:Europe/Madrid
DESCRIPTION:Una tarda-vespre vibrant i refrescant, plena de
ritme, emoció i connexió amb el públic.

URI:https://www.mura.cat/actualitat/agenda/concert-jow.html
CLASS:PUBLIC
END:VEVENT
END:VCALENDAR
