BEGIN:VCALENDAR
VERSION:2.0
CALSCALE:GREGORIAN
PRODID:-//Diputació de Barcelona//DibaCMS//EN
BEGIN:VEVENT
UID:1872
DTSTAMP:20260422T152836
DTSTART:20260912T223000
DTEND:20260919T235900
SUMMARY:CONCERT ROCK THE NIGHT
LOCATION:C/ Muntanya, 17 08278 Mura
METHOD:PUBLISH
X-WR-CALNAME:mura@mura.cat
X-WR-TIMEZONE:Europe/Madrid
DESCRIPTION:UNA PROPOSTA PER A TOTS ELS PÚBLICS AMB UNA SOLVÈNCIA
ESCÈNICA INIGUALABLE

URI:https://www.mura.cat/actualitat/agenda/concert-rock-the-night.html
CLASS:PUBLIC
END:VEVENT
END:VCALENDAR
